Workbook
Name ChloramineTableG: #REF!
Name ChloramineTableV: #REF!
Name ClOgTable: #REF!
Name ClOvTable: #REF!
Name CTtable: #REF!
Name LogGcat1: #REF!
Name LogGcat2: #REF!
Name LogGpercent: #REF!
Name LogGr: #REF!
Name LogVcat1: #REF!
Name LogVcat2: #REF!
Name LogVpercent: #REF!
Name LogVr: #REF!
Name O3gTable: #REF!
Name O3vTable: #REF!
Name S1Baffle: #REF!
Name S1Disinfectant: #REF!
Name S1Flow: #REF!
Name S1Time: #REF!
Name S1UnitTime: #REF!
Name S1UnitVolume: #REF!
Name S2Baffle: #REF!
Name S2Disinfectant: #REF!
Name S2Flow: #REF!
Name S2Time: #REF!
Name S2UnitTime: #REF!
Name S2Volume: #REF!
Name S3Baffle: #REF!
Name S3Disinfectant: #REF!
Name S3Flow: #REF!
Name S3Time: #REF!
Name S3Volume: #REF!
Name TempUnit: 'SWO&R Back Side'!$W$12
Name VirusCTtable: #REF!

Sheet SWO&R Front Side
A1: Return to: Arkansas Department of Health, Engineering Branch | K1: SURFACE WATER OPERATION & CHEMICAL REPORT FOR | AE1: POPULATION SERVED
A2: 4815 West Markham, Slot 37, Little Rock, AR 72205 | K2: WTP NAME | X2: PWS ID # | AD2: MONTH | AJ2: YR
B4: Previous Meter Reading | H4: Temperature | J4: Lbs. Chemical Used (List Chemicals) | P4: pH | T4: Alkalinity (ppm) | W4: Hardness (ppm) | Y4: Fluoride (ppm) | Z4: Turbidity (NTU) | AH4: Effluent Disinfectant (ppm) Lowest Measured Value* | AJ4: Chlorite Monitoring (For Systems Using Chlorine Dioxide)
A5: D | F5: Hours | G5: Rainfall | AB5: Finished AM | AE5: Finished PM | AL5: D
A6: A | B6: Master Meter Reading | D6: Total Treated x1000 gal | F6: Plant | G6: (in) | H6: AIr | I6: Water | AJ6: Entry Point Chlorite (ppm) | AK6: Dist. Samples Collected (Y / N) | AL6: A
A7: T | F7: Run | P7: Raw | Q7: Set | R7: Fin | T7: Raw | U7: Set | V7: Fin | W7: Raw | X7: Set | Z7: Raw | AA7: Set | AB7: 12 -- 4 | AC7: 4 -- 8 | AD7: 8 -- 12 | AE7: 12 --4 | AF7: 4 -- 8 | AG7: 8 -- 12 | AL7: T
A8: E | B8: (gal) | AL8: E | AN8: NOTE:
A9: 1 | D9: =IF(B9="","",(B9-B5)/1000*$P$48) | AL9: 1 | AN9: Complete Highlighted fields
A10: 2 | D10: =IF(B10="","",(B10-B9)/1000*$P$48) | AL10: 2 | AN10: to remove highlighting
A11: 3 | D11: =IF(B11="","",(B11-B10)/1000*$P$48) | AL11: 3
A12: 4 | D12: =IF(B12="","",(B12-B11)/1000*$P$48) | AL12: 4 | AN12: Enter Master Meter readings to
A13: 5 | D13: =IF(B13="","",(B13-B12)/1000*$P$48) | AL13: 5 | AN13: autocalculate the daily production
A14: 6 | D14: =IF(B14="","",(B14-B13)/1000*$P$48) | AL14: 6
A15: 7 | D15: =IF(B15="","",(B15-B14)/1000*$P$48) | AL15: 7
A16: 8 | D16: =IF(B16="","",(B16-B15)/1000*$P$48) | AL16: 8
A17: 9 | D17: =IF(B17="","",(B17-B16)/1000*$P$48) | AL17: 9
A18: 10 | D18: =IF(B18="","",(B18-B17)/1000*$P$48) | AL18: 10
A19: 11 | D19: =IF(B19="","",(B19-B18)/1000*$P$48) | AL19: 11
A20: 12 | D20: =IF(B20="","",(B20-B19)/1000*$P$48) | AL20: 12
A21: 13 | D21: =IF(B21="","",(B21-B20)/1000*$P$48) | AL21: 13
A22: 14 | D22: =IF(B22="","",(B22-B21)/1000*$P$48) | AL22: 14
A23: 15 | D23: =IF(B23="","",(B23-B22)/1000*$P$48) | AL23: 15
A24: 16 | D24: =IF(B24="","",(B24-B23)/1000*$P$48) | AL24: 16
A25: 17 | D25: =IF(B25="","",(B25-B24)/1000*$P$48) | AL25: 17
... A39: 31 | D39: =IF(B39="","",(B39-B38)/1000*$P$48) | AL39: 31
A40: Total | D40: =IF(SUM(D9:E39)=0,"",SUM(D9:E39)) | F40: =IF(SUM(F9:F39)=0,"",SUM(F9:F39)) | G40: =IF(SUM(G9:G39)=0,"",SUM(G9:G39)) | H40: =IF(SUM(H9:H39)=0,"",SUM(H9:H39)) | I40: =IF(SUM(I9:I39)=0,"",SUM(I9:I39)) | J40: =IF(SUM(J9:J39)=0,"",SUM(J9:J39)) | K40: =IF(SUM(K9:K39)=0,"",SUM(K9:K39)) | L40: =IF(SUM(L9:L39)=0,"",SUM(L9:L39)) | M40: =IF(SUM(M9:M39)=0,"",SUM(M9:M39)) | ... AA40: =IF(SUM(AA9:AA39)=0,"",SUM(AA9:AA39)) | AB40: Total # of Finished Turbidity Values | AG40: =IF(COUNTA(AB9:AG39)=0,"",COUNTA(AB9:AG39)) | AH40: =IF(SUM(AH9:AH39)=0,"",SUM(AH9:AH39)) | AJ40: =IF(SUM(AJ9:AJ39)=0,"",SUM(AJ9:AJ39))
A41: Avg. | D41: =IF(SUM(D9:E39)=0,"",AVERAGE(D9:E39)) | F41: =IF(SUM(F9:F39)=0,"",AVERAGE(F9:F39)) | G41: =IF(SUM(G9:G39)=0,"",AVERAGE(G9:G39)) | H41: =IF(SUM(H9:H39)=0,"",AVERAGE(H9:H39)) | I41: =IF(SUM(I9:I39)=0,"",AVERAGE(I9:I39)) | J41: =IF(SUM(J9:J39)=0,"",AVERAGE(J9:J39)) | K41: =IF(SUM(K9:K39)=0,"",AVERAGE(K9:K39)) | L41: =IF(SUM(L9:L39)=0,"",AVERAGE(L9:L39)) | M41: =IF(SUM(M9:M39)=0,"",AVERAGE(M9:M39)) | ... AA41: =IF(SUM(AA9:AA39)=0,"",AVERAGE(AA9:AA39)) | AB41: # > 1 NTU | AG41: =IF(COUNTA(AB9:AG39)=0,"",COUNTIF(AB9:AG39,">1.444")) | AH41: =IF(SUM(AH9:AH39)=0,"",AVERAGE(AH9:AH39)) | AJ41: =IF(SUM(AJ9:AJ39)=0,"",AVERAGE(AJ9:AJ39))
A42: Max. | D42: =IF(SUM(D9:E39)=0,"",MAX(D9:E39)) | F42: =IF(SUM(F9:F39)=0,"",MAX(F9:F39)) | G42: =IF(SUM(G9:G39)=0,"",MAX(G9:G39)) | H42: =IF(SUM(H9:H39)=0,"",MAX(H9:H39)) | I42: =IF(SUM(I9:I39)=0,"",MAX(I9:I39)) | J42: =IF(SUM(J9:J39)=0,"",MAX(J9:J39)) | K42: =IF(SUM(K9:K39)=0,"",MAX(K9:K39)) | L42: =IF(SUM(L9:L39)=0,"",MAX(L9:L39)) | M42: =IF(SUM(M9:M39)=0,"",MAX(M9:M39)) | ... AA42: =IF(SUM(AA9:AA39)=0,"",MAX(AA9:AA39)) | AB42: # > 0.3 NTU | AD42: =IF(COUNTA(AB9:AG39)=0,"",COUNTIF(AB9:AG39,">0.344")) | AE42: # > 0.15 NTU | AG42: =IF(COUNTA(AB9:AG39)=0,"",COUNTIF(AB9:AG39,">0.1544")) | AH42: =IF(SUM(AH9:AH39)=0,"",MAX(AH9:AH39)) | AJ42: =IF(SUM(AJ9:AJ39)=0,"",MAX(AJ9:AJ39))
A43: Min. | D43: =IF(SUM(D9:E39)=0,"",MIN(D9:E39)) | F43: =IF(SUM(F9:F39)=0,"",MIN(F9:F39)) | G43: =IF(SUM(G9:G39)=0,"",MIN(G9:G39)) | H43: =IF(SUM(H9:H39)=0,"",MIN(H9:H39)) | I43: =IF(SUM(I9:I39)=0,"",MIN(I9:I39)) | J43: =IF(SUM(J9:J39)=0,"",MIN(J9:J39)) | K43: =IF(SUM(K9:K39)=0,"",MIN(K9:K39)) | L43: =IF(SUM(L9:L39)=0,"",MIN(L9:L39)) | M43: =IF(SUM(M9:M39)=0,"",MIN(M9:M39)) | ... AA43: =IF(SUM(AA9:AA39)=0,"",MIN(AA9:AA39)) | AB43: % > 0.3 NTU | AD43: =IF(COUNTA(AB9:AG39)=0,"",AD42/AG40) | AE43: % > 0.15 NTU | AG43: =IF(COUNTA(AB9:AG39)=0,"",AG42/AG40) | AH43: =IF(SUM(AH9:AH39)=0,"",MIN(AH9:AH39)) | AJ43: =IF(SUM(AJ9:AJ39)=0,"",MIN(AJ9:AJ39))
B44: *4 Hr Effluent Residual Monitoring Required if < 0.2 PPM | Z44: See reverse side for CT compliance, filter operation and ClO2 residual monitoring.
B45: AM | E45: PM | I45: AM | L45: PM | P45: Is booster chlorination provided? | W45: Comments:
A46: Date | B46: 12 -- 4 | C46: 4 -- 8 | D46: 8 -- 12 | E46: 12 -- 4 | F46: 4 -- 8 | G46: 8 --12 | H46: Date | I46: 12 -- 4 | J46: 4 -- 8 | K46: 8 -- 12 | L46: 12 -- 4 | M46: 4 -- 8 | N46: 8 --12 | P46: Yes | T46: No
O47: (gal) | W47: I certify that the information in this report is true and accurate to the best of my knowledge. I acknowledge that any
O48: (ft3) | P48: =IF(B8="(gal)",1,IF(B8="(ft3)",7.481,"")) -> 1 | W48: knowingly false or misleading information may be punishable under 18 USC 1001 and other applicable laws.
W50: Signature | AI50: Date
W51: Printed Name | AD51: Position: | AI51: License #
P52: F | Q52: Y | W52: Make a copy for your records & return by the 10th of the following month to the above address.
A53: SW0&CR - 2027 - Front | P53: C | Q53: N

Sheet SWO&R Back Side
A1: ClO2 Residual Monitoring (ppm) | G1: Filter Operation | K1: Turbidimeter Calibration Record | S1: WATER QUALITY DATA FOR CT COMPLIANCE
A2: Date | B2: Entry Point | C2: Distribution System | G2: Date | H2: Number Used | I2: Filters Washed | J2: Wash Water Used x 1000 | K2: Turbidimeter | M2: Calibration
C3: Pt. 1 | D3: Pt. 2 | E3: Pt. 3 | K3: Name or Number | M3: Date | S3: PWS | T3: =IF('SWO&R Front Side'!V1="","",'SWO&R Front Side'!V1) | Y3: ID # | Z3: =IF('SWO&R Front Side'!Z2="","",'SWO&R Front Side'!Z2) | AA3: MONTH | AB3: =IF('SWO&R Front Side'!AF2="","",'SWO&R Front Side'!AF2) | AD3: YR | AE3: =IF('SWO&R Front Side'!AK2="","",'SWO&R Front Side'!AK2)
A4: 1 | G4: 1 | O4: P W S # | P4: P L A N T N A M E | Q4: S Y S T E M N A M E | S4: PLANT NAME | U4: =IF('SWO&R Front Side'!M2="","",'SWO&R Front Side'!M2)
A5: 2 | G5: 2
A6: 3 | G6: 3
A7: 4 | G7: 4 | T7: Peak | U7: Peak | X7: (RECORD DISINFECTANT INJECTION POINTS BELOW) | AE7: Percent Compliance
A8: 5 | G8: 5 | S8: D | T8: Raw / Plant | U8: High | V8: Minimum | W8: Water | AD8: Was
A9: 6 | G9: 6 | S9: A | T9: Flow | U9: Service | V9: Clearwell | W9: Temp. | X9: (RECORD MONITORING LOCATIONS BELOW) | AD9: compliance
A10: 7 | G10: 7 | S10: T | T10: Rate | U10: Flow | V10: Level* | AD10: met this
A11: 8 | G11: 8 | R11: C | S11: E | U11: Rate | W11: Degrees | X11: pH | Y11: Free Cl2 Residual (ppm) | Z11: pH | AA11: Free Cl2 Residual (ppm) | AB11: pH | AC11: Free Cl2 Residual (ppm) | AD11: date?
A12: 9 | G12: 9 | R12: F | T12: (GPM) | U12: (GPM) | V12: (FEET) | AD12: (Yes / No)
A13: 10 | G13: 10 | S13: 1
A14: 11 | G14: 11 | S14: 2
A15: 12 | G15: 12 | O15: =IF(Z3="","",Z3) | P15: =IF(U4="","",U4) | Q15: =IF(T3="","",T3) | S15: 3
A16: 13 | G16: 13 | S16: 4
A17: 14 | G17: 14 | S17: 5
A18: 15 | G18: 15 | S18: 6
A19: 16 | G19: 16 | S19: 7
A20: 17 | G20: 17 | O20: M O N T H | S20: 8
A21: 18 | G21: 18 | S21: 9
A22: 19 | G22: 19 | S22: 10
A23: 20 | G23: 20 | S23: 11
A24: 21 | G24: 21 | S24: 12
A25: 22 | G25: 22 | O25: =IF(AB3="","",AB3) | S25: 13
A26: 23 | G26: 23 | S26: 14
A27: 24 | G27: 24 | S27: 15
A28: 25 | G28: 25 | S28: 16
A29: 26 | G29: 26 | S29: 17
A30: 27 | G30: 27 | S30: 18
A31: 28 | G31: 28 | O31: , | S31: 19
A32: 29 | G32: 29 | O32: =IF(AE3="","",AE3) | S32: 20
A33: 30 | G33: 30 | S33: 21
A34: 31 | G34: 31 | S34: 22
A35: SWTR, ESWTRs & D/DBP RULE REQUIREMENTS | S35: 23
S36: 24
A37: Combined Filter Effluent Turbidity Monitoring | G37: Chlorine Monitoring | L37: Chlorine Dioxide & Chlorite Monitoring
S38: 25
A39: > 500 pop: every 4 hours (May substitute continuous) | G39: Plant - | H39: < 500 pop: | J39: 1 per day min. | L39: Daily at Entry Point
A40: < 500 pop: 1 per day min. if approved in writing by ADH | H40: 501 - 1000: | J40: 2 per day min. | S40: 26
H41: 1001 - 2500: | J41: 3 per day min. | L41: (ClO2 & Chlorite Monitoring only applies
A42: Turbidy Level of Combined Filter Effluent | H42: 2500 - 3300: | J42: 4 per day min. | L42: to systems using chlorine dioxide) | S42: 27
H43: > 3300: | J43: continuous
A44: 95% < 0.3 NTU | L44: If ClO2 residual exceeds 0.8 ppm | S44: 28
G45: Distribution - Same time & frequency as | L45: collect 3 distribution system
A46: Notify the Department of Health | G46: coliform sampling. -- (Use separate | L46: samples on the following day. Record | S46: 29
A47: whenever turbidity > 1 NTU | G47: "Bacteriological Monitoring Record" form | L47: distribution ClO2 residuals on this form.
G48: for reporting) | S48: 30
L49: If Chlorite exceeds 1.0 ppm,
A50: Individual Filter Effluent Turbidity Monitoring | G50: Minimum Chlorine Level | L50: notify the Department of Health and | S50: 31
L51: collect 3 distribution system
A52: Continuous Monitoring -- Record values | G52: Plant Effluent: Not <0.2 ppm for >4hrs. | L52: samples on the following day. | T52: *Applicable only if minimum clearwell level must be maintained for compliance.
A53: every 15 minutes and maintain records on file | G53: Distribution: >Trace residual
A54: for review during sanitary survey. | L54: ClO2 residual and Chlorite distribution | S54: Comments
G55: If plant effluent residual <0.2 ppm, | L55: system monitoring points as per ADH
A56: (SCADA and /or monthly IFE turbidity meter | G56: notify Department of Health and | L56: approved sample site plan.
A57: downloads are recommended.) | G57: monitor every 4 hours until
G58: >0.2 ppm | L58: Chlorite MCL -- 1.0 ppm | S58: The above figures are true and accurate to the best of my knowledge.
A60: Turbidity Level of Individual Filters | G60: CT: Monitor pH, water temperature, & | L60: Maximum Residual Disinfectant Levels | AB60: =IF('SWO&R Front Side'!AE51="","",'SWO&R Front Side'!AE51)
G61: disinfectant residual at prescribed points | S61: SIGNATURE / DATE | AA61: POSITION
A62: (Use Separate "Individual Filter Turbidity | G62: when plant is at peak flow for that day. | L62: Chlorine Dioxide MRDL -- 0.8 ppm (as ClO2)
A63: Monitoring Report" form for reporting) | G63: Check compliance. Record on this form. | L63: Chlorine & Chloramines MRDL -- 4.0 ppm
P64: (as Cl2) | AE64: SW0&CR - 2027 - Back
